Workbook

Sheet LAB_LINK_USE_ONLY
A1: Illumina | 5200 Illumina Way, San Diego, CA 92122
B2: Example Sample Spreadsheet and Instructions
A3: You can use this sample import spreadsheet to import sample information into BaseSpace Clarity LIMS.
A4: Direct Identifiers Should not Be Stored in Custom Fields:
A5: Best laboratory practice is not to include direct identifiers such as names, initials, dates of birth, dates of service, etc. in the sample sheet and instead use a code to track samples. Customers who do not have the PHI package are not permitted to provide any identifying information.
A6: To get started:
A7: 1. Set up your BaseSpace Clarity LIMS system with submitted sample Custom Fields (column headers starting with 'UDF').
A8: 2. Create a sample spreadsheet using these instructions.
A9: 3. Test the sample spreadsheet: use it to import test samples.
A10: 4. Provide the sample spreadsheet to your external collaborators for them to complete and submit.
A12: <TABLE HEADER>
A13: UDF/Patient Name | B13: UDF/Patient DOB | C13: UDF/Patient Sex | D13: UDF/MRN (Medical Record Number) | E13: UDF/PT Street Address | F13: UDF/PT City | G13: UDF/PT State | H13: UDF/PT Country | I13: UDF/PT Postal Code | J13: UDF/Dr Name | K13: UDF/NPI # | L13: UDF/Submitting Lab/Institution Name | M13: UDF/Dr Street Address | N13: UDF/Dr City | O13: UDF/Dr State | P13: UDF/Dr Postal Code | Q13: UDF/Dr Country | R13: UDF/Dr Email | S13: UDF/Physician Phone Number | T13: UDF/Pathology Lab Name | U13: UDF/Contact Email | V13: UDF/Billing | W13: UDF/Primary Insurance Plan Name | X13: UDF/Policy # | Y13: UDF/Group # | Z13: UDF/Primary Policy Holder | AA13: UDF/Primary Policy Holder DOB | AB13: UDF/ICD-10 Code | AC13: UDF/Original Diagnosis Date | AD13: UDF/Surgery Date | AE13: UDF/Test Selection | AF13: UDF/Sample Type | AG13: UDF/CLIA Lab # (*for Extracted DNA) | AH13: UDF/Concentration (ng/ul) | AI13: UDF/Container Type | AJ13: UDF/FFPE Block # | AK13: Sample/Name | AL13: UDF/Collection Date | AM13: UDF/Tumor % | AN13: UDF/Authorization Signature | AO13: UDF/Authorization Date | AP13: UDF/Slide or Scroll ID | AQ13: UDF/Date Removed from Storage (if applicable)
A14: </TABLE HEADER>
A15: <SAMPLE ENTRIES>
A16: =IF(ISBLANK(Test_Requisition_Form!B12),"",Test_Requisition_Form!B12) | B16: =IF(ISBLANK(Test_Requisition_Form!C12),"",Test_Requisition_Form!C12) | C16: =IF(ISBLANK(Test_Requisition_Form!D12),"",Test_Requisition_Form!D12) | D16: =IF(ISBLANK(Test_Requisition_Form!B14), "", CONCATENATE("'",Test_Requisition_Form!B14,"'")) | E16: =IF(ISBLANK(Test_Requisition_Form!C14),"",Test_Requisition_Form!C14) | F16: =IF(ISBLANK(Test_Requisition_Form!D14),"",Test_Requisition_Form!D14) | G16: =IF(ISBLANK(Test_Requisition_Form!B16),"",Test_Requisition_Form!B16) | H16: =IF(ISBLANK(Test_Requisition_Form!D16),"",Test_Requisition_Form!D16) | I16: =IF(ISBLANK(Test_Requisition_Form!C16), "", CONCATENATE("'",Test_Requisition_Form!C16,"'")) | J16: =IF(ISBLANK(Test_Requisition_Form!B20),"",Test_Requisition_Form!B20) | K16: =IF(ISBLANK(Test_Requisition_Form!C20), "", CONCATENATE("'",Test_Requisition_Form!C20,"'")) | L16: =IF(ISBLANK(Test_Requisition_Form!D20),"",Test_Requisition_Form!D20) | M16: =IF(ISBLANK(Test_Requisition_Form!B22),"",Test_Requisition_Form!B22) | N16: =IF(ISBLANK(Test_Requisition_Form!C22),"",Test_Requisition_Form!C22) | O16: =IF(ISBLANK(Test_Requisition_Form!D22),"",Test_Requisition_Form!D22) | P16: =IF(ISBLANK(Test_Requisition_Form!B24), "", CONCATENATE("'",Test_Requisition_Form!B24,"'")) | Q16: =IF(ISBLANK(Test_Requisition_Form!C24),"",Test_Requisition_Form!C24) | R16: =IF(ISBLANK(Test_Requisition_Form!D24),"",Test_Requisition_Form!D24) | S16: =IF(ISBLANK(Test_Requisition_Form!B26),"",Test_Requisition_Form!B26) | T16: =IF(ISBLANK(Test_Requisition_Form!C26),"",Test_Requisition_Form!C26) | U16: =IF(ISBLANK(Test_Requisition_Form!D26),"",Test_Requisition_Form!D26) | V16: =IF(ISBLANK(Test_Requisition_Form!B30),"",Test_Requisition_Form!B30) | W16: =IF(ISBLANK(Test_Requisition_Form!C30),"",Test_Requisition_Form!C30) | X16: =IF(ISBLANK(Test_Requisition_Form!D30), "", CONCATENATE("'",Test_Requisition_Form!D30,"'")) | Y16: =IF(ISBLANK(Test_Requisition_Form!B32), "", CONCATENATE("'",Test_Requisition_Form!B32,"'")) | Z16: =IF(ISBLANK(Test_Requisition_Form!C32),"",Test_Requisition_Form!C32) | AA16: =IF(ISBLANK(Test_Requisition_Form!D32),"",Test_Requisition_Form!D32) | AB16: =IF(ISBLANK(Test_Requisition_Form!B36),"",Test_Requisition_Form!B36) | AC16: =IF(ISBLANK(Test_Requisition_Form!C36),"",Test_Requisition_Form!C36) | AD16: =IF(ISBLANK(Test_Requisition_Form!D36),"",Test_Requisition_Form!D36) | AE16: =IF(AND(Test_Requisition_Form!F39=TRUE(),Test_Requisition_Form!G39=TRUE(),Test_Requisition_Form!H39=TRUE()),"Archer, PGDx, and DNA Methylation Infinium",IF(AND(Test_Requisition_Form!G39=TRUE(),Test_Requisition_Form!H39=TRUE()),"Archer and PGDx",IF(AND(Test_Requisition_Form!F39=TRUE(),Test_Requisition_Form!H39=TRUE()),"Archer and DNA Methylation Infinium",IF(AND(Test_Requisition_Form!F39=TRUE(),Test_Requisition_Form!G39=TRUE()),"PGDx and DNA Methylation Infinium",IF(Test_Requisition_Form!H39=TRUE(),"Archer",IF(Test_Requisition_Form!G39=TRUE(),"PGDx",IF(Test_Requisition_Form!F39=TRUE(),"DNA Methylation Infinium",""))))))) | AF16: =IF( ISBLANK(Test_Requisition_Form!B43), "", IF( Test_Requisition_Form!B43 = "FFPE Scroll(s)", "FFPE Scroll", IF( Test_Requisition_Form!B43 = "FFPE Unstained Slides", "FFPE Unstained Slide", IF( Test_Requisition_Form!B43 = "FFPE Extracted DNA", "FFPE Extracted DNA (with CLIA Lab #)", Test_Requisition_Form!B43 ) ) ) ) | AG16: =IF(ISBLANK(Test_Requisition_Form!C43), "", CONCATENATE("'",Test_Requisition_Form!C43,"'")) | AH16: =IF(ISBLANK(Test_Requisition_Form!D43),"",Test_Requisition_Form!D43) | AI16: =IF(ISBLANK(Test_Requisition_Form!B45),"",Test_Requisition_Form!B45) | AJ16: =IF(ISBLANK(Test_Requisition_Form!C45), "", CONCATENATE("'",Test_Requisition_Form!C45,"'")) | AK16: =IF(ISBLANK(Test_Requisition_Form!B12), "", CONCATENATE("'",Test_Requisition_Form!B12,"'")) | AL16: =IF(ISBLANK(Test_Requisition_Form!B47),"",Test_Requisition_Form!B47) | AM16: =IF(ISBLANK(Test_Requisition_Form!C47),"",Test_Requisition_Form!C47) | AN16: =IF(ISBLANK(Test_Requisition_Form!C51),"No","Yes") -> No | AO16: =IF(ISBLANK(Test_Requisition_Form!C52),"",Test_Requisition_Form!C52) | AP16: =IF(ISBLANK(Test_Requisition_Form!D45), "", CONCATENATE("'",Test_Requisition_Form!D45,"'")) | AQ16: =IF(ISBLANK(Test_Requisition_Form!D47),"",Test_Requisition_Form!D47)
A17: </SAMPLE ENTRIES>
A19: The tags define the start and end of the table header and the start and end of the sample entry area. These tags are required, but you can hide them in the final version of your spreadsheet.
A20: The blue column header names are also required, but you can hide them in the final version of your spreadsheet (more details below).
A22: The following column headers are required: Sample/Name and any submitted sample Custom Fields that are required by your system administrator.
A23: The following column header names cannot be changed: Sample/Name, Container/Type, Container/Name, and Sample/Well Location.
A25: Tips for Data Entry
A26: Dates should always be entered using Excel's date cell formatting.
A27: Currency is best entered as a string (rather than using the Excel currency category) in order to preserve currency characters (e.g. $).
A28: Numbers can be entered either as numeric or string values.
A29: If you have drop-down lists of values in BaseSpace Clarity LIMS, the exact same values will need to be entered in the sample spreadsheet.
A30: Container well locations are always Row:Column and the actual dimensions depend on container type configuration.
A31: As you can see in our example, the area above the sample entry area can be customized for your facility with freeform text and graphics.
A32: You can also insert columns and instructions to the left of or below the red tags.

Sheet Test_Requisition_Form
B2: Test Requisition Form 701 W Main St, Suite 221 Durham, NC 27701 CLIA ID #: 34D2316424 | NPI #: 1437958824
B6: Form Instructions
B7: Patient Instructions: • Bring form to your physician and have him or her complete the form and email to genomictesting@gliolab.org. • For any questions, please contact us (email: support@gliolab.org or phone: 919-309-1489).
B8: Physician Instructions: • Fill in all relevant information below, and upload completed form to LabLink. All fields marked with an asterik(*) are required. • If submitting this form via email, please send to: genomictesting@gliolab.org. • For any questions, please contact us (email: support@gliolab.org or phone: 919-309-1489).
B10: Patient Information
B11: *Patient Name (Last, First, MI) | C11: *DOB (YYYY-MM-DD) | D11: *Sex (Male or Female)
B13: MRN (Medical Record #) | C13: *Street Address | D13: *City
B15: *State | C15: *Postal Code | D15: Country
B18: Ordering Physician Information
B19: *Physician Name (Last, First, MI) | C19: *NPI# | D19: *Office/Practice/Institution
B21: *Street Address | C21: *City | D21: *State
B23: *Postal Code | C23: *Country | D23: *Physician Email Address
B25: *Physician Phone Number | C25: *Pathology Lab Name (if different from above) | D25: *Pathology Lab Email Address
B28: Billing Information
B29: *Billing (Self-Pay, Insurance, or Institution) | C29: *Primary Insurance Plan Name | D29: *Policy #
B31: *Group # (if applicable) | C31: *Primary Policy Holder | D31: *DOB (YYYY-MM-DD) | F31: Self-Pay
F32: Insurance
F33: Institution
B34: Patient History
B35: *ICD-10 Code (Fill in if not listed) | C35: Original Diagnosis Date (YYYY-MM-DD) | D35: Surgery Date (YYYY-MM-DD)
B38: Test Selection
F39: FALSE | G39: FALSE | H39: FALSE
B41: Specimen Information
B42: *Specimen Type(Scrolls, Slides, or Extracted DNA) | C42: =IF(B43="FFPE Extracted DNA","*CLIA Lab # (*for Extracted DNA)","CLIA Lab # (*for Extracted DNA Only)") -> CLIA Lab # (*for Extracted DNA Only) | D42: =IF(B43="FFPE Extracted DNA","*Concentration ng/μL (*for Extracted DNA)","Concentration ng/μL (*for Extracted DNA)") -> Concentration ng/μL (*for Extracted DNA)
B44: *Container Type(Tube or Slidebox) | C44: *FFPE Block Number | D44: *Slide/Scroll ID | F44: FFPE Scroll(s)
F45: FFPE Unstained Slides
B46: *Collection Date (YYYY-MM-DD) | C46: *Tumor % (>60%) | D46: Date Removed from Storage (if applicable) | F46: FFPE Extracted DNA
B49: Certificate of Authorization, Medical Necessity, and Informed Consent
B50: By printing my name below, I certify that 1) I am the patient's treating physician and am authorized to order tests on this requisition, 2) each test ordered is medically necessary for the patient, 3) I have explained the purpose of testing to the patient and patient has provided informed consent for (i) testing, (ii) analysis and reports related to testing, (iii) Glioblastoma Foundation's use of deidentified results and data for research purposes, and (iv) disclosure of information to third-party payers in connection with testing in accordance with applicable law.
B51: *Printed Name
B52: *Date (YYYY-MM-DD)
B54: Shipping Instructions
B55: *Specimen Requirements | C55: *Packaging & Handling | D55: *Shipping Information
B56: 15 unstained slides (5 μm thick) and 1 H&E slide (with tumor circled and tumor % indicated) OR 10 scrolls (50 μm thick) and 1 H&E slide (with tumor circled and tumor % indicated) | C56: Label each slide/scroll with patient name or a unique identifier. Use slide mailers (plastic or cardboard) for slides—mail scrolls in a microfuge tube. Ship overnight in a padded envelope at room temperature. For slides, please make sure tumor is circled. | D56: Ship (Monday-Thursday only) for overnight delivery to: Glioblastoma Foundation Gliolab 701 W Main St, Ste 221 Durham, NC, 27701
B58: FFPE Extracted DNA (≥500 ng) | C58: Use 0.5 mL- 2.0 mL microfuge tube. Label the tube with patient name or a unique identifier. Place the tube inside a sealed bag. Ship overnight in a padded envelope at room temperature.
B61: Submission Checklist
